BEGIN:VCALENDAR
VERSION:2.0
PRODID:icalendar-ruby
CALSCALE:GREGORIAN
METHOD:PUBLISH
BEGIN:VEVENT
DTSTAMP:20260422T182106Z
UID:12-391865@heflinbaptist.com
DTSTART:20260812T230000Z
DTEND:20260813T000000Z
CLASS:PUBLIC
CREATED:20260422T103751
DESCRIPTION:
LAST-MODIFIED:20260422T103751
LOCATION:Fellowship Hall
SUMMARY:Adult Bible Study & Worship
URL;VALUE=URI:https://www.heflinbaptist.com/events/adult-bible-study-worshi
 p/2026-08-12
END:VEVENT
END:VCALENDAR
