BEGIN:VCALENDAR
VERSION:2.0
PRODID:icalendar-ruby
CALSCALE:GREGORIAN
METHOD:PUBLISH
BEGIN:VEVENT
DTSTAMP:20260422T232023Z
UID:12-392450@heflinbaptist.com
DTSTART:20260819T230000Z
DTEND:20260820T000000Z
CLASS:PUBLIC
CREATED:20260422T162747
DESCRIPTION:
LAST-MODIFIED:20260422T162747
LOCATION:Fellowship Hall
SUMMARY:Adult Bible Study & Worship
URL;VALUE=URI:https://www.heflinbaptist.com/events/adult-bible-study-worshi
 p/2026-08-19
END:VEVENT
END:VCALENDAR
