BEGIN:VCALENDAR
VERSION:2.0
PRODID:icalendar-ruby
CALSCALE:GREGORIAN
METHOD:PUBLISH
BEGIN:VEVENT
DTSTAMP:20260423T083245Z
UID:12-393039@heflinbaptist.com
DTSTART:20260902T230000Z
DTEND:20260903T000000Z
CLASS:PUBLIC
CREATED:20260422T221342
DESCRIPTION:
LAST-MODIFIED:20260422T221342
LOCATION:Fellowship Hall
SUMMARY:Adult Bible Study & Worship
URL;VALUE=URI:https://www.heflinbaptist.com/events/adult-bible-study-worshi
 p/2026-09-02
END:VEVENT
END:VCALENDAR
