BEGIN:VCALENDAR
VERSION:2.0
PRODID:icalendar-ruby
CALSCALE:GREGORIAN
METHOD:PUBLISH
BEGIN:VEVENT
DTSTAMP:20260423T135348Z
UID:12-393335@heflinbaptist.com
DTSTART:20260909T230000Z
DTEND:20260910T000000Z
CLASS:PUBLIC
CREATED:20260423T074358
DESCRIPTION:
LAST-MODIFIED:20260423T074358
LOCATION:Fellowship Hall
SUMMARY:Adult Bible Study & Worship
URL;VALUE=URI:https://www.heflinbaptist.com/events/adult-bible-study-worshi
 p/2026-09-09
END:VEVENT
END:VCALENDAR
