BEGIN:VCALENDAR
VERSION:2.0
PRODID:icalendar-ruby
CALSCALE:GREGORIAN
METHOD:PUBLISH
BEGIN:VEVENT
DTSTAMP:20260424T004238Z
UID:12-394517@heflinbaptist.com
DTSTART:20260923T230000Z
DTEND:20260924T000000Z
CLASS:PUBLIC
CREATED:20260423T192056
DESCRIPTION:
LAST-MODIFIED:20260423T192056
LOCATION:Fellowship Hall
SUMMARY:Adult Bible Study & Worship
URL;VALUE=URI:https://www.heflinbaptist.com/events/adult-bible-study-worshi
 p/2026-09-23
END:VEVENT
END:VCALENDAR
