BEGIN:VCALENDAR
VERSION:2.0
PRODID:icalendar-ruby
CALSCALE:GREGORIAN
METHOD:PUBLISH
BEGIN:VEVENT
DTSTAMP:20260423T002215Z
UID:14-392860@heflinbaptist.com
DTSTART:20260819T230000Z
DTEND:20260820T000000Z
CLASS:PUBLIC
CREATED:20260422T191917
DESCRIPTION:
LAST-MODIFIED:20260422T191917
LOCATION:The Cave
SUMMARY:Frontline Student Ministry
URL;VALUE=URI:https://www.heflinbaptist.com/events/frontline-student-minist
 ry/2026-08-19
ATTACH;FILENAME=Frontline.png;FMTTYPE=image/png:https://dq5pwpg1q8ru0.cloud
 front.net/2025/09/14/21/11/08/be58bfbb-5edb-413e-90b2-1644dd2a6c83/Frontli
 ne.png
END:VEVENT
END:VCALENDAR
