BEGIN:VCALENDAR
VERSION:2.0
PRODID:icalendar-ruby
CALSCALE:GREGORIAN
METHOD:PUBLISH
BEGIN:VEVENT
DTSTAMP:20260423T050820Z
UID:14-393156@heflinbaptist.com
DTSTART:20260826T230000Z
DTEND:20260827T000000Z
CLASS:PUBLIC
CREATED:20260422T221342
DESCRIPTION:
LAST-MODIFIED:20260422T221342
LOCATION:The Cave
SUMMARY:Frontline Student Ministry
URL;VALUE=URI:https://www.heflinbaptist.com/events/frontline-student-minist
 ry/2026-08-26
ATTACH;FILENAME=Frontline.png;FMTTYPE=image/png:https://dq5pwpg1q8ru0.cloud
 front.net/2025/09/14/21/11/08/be58bfbb-5edb-413e-90b2-1644dd2a6c83/Frontli
 ne.png
END:VEVENT
END:VCALENDAR
