BEGIN:VCALENDAR
VERSION:2.0
PRODID:icalendar-ruby
CALSCALE:GREGORIAN
METHOD:PUBLISH
BEGIN:VEVENT
DTSTAMP:20260420T015926Z
UID:10-387134@heflinbaptist.com
DTSTART:20260809T140000Z
DTEND:20260809T144500Z
CLASS:PUBLIC
CREATED:20260419T193431
DESCRIPTION:Sunday School / Small Groups\nDirector: Robby Brown\n\n\n\n\nCl
 ass Name\n\n\nRoom #\n\n\nTeacher (s)\n\n\n\n\nAdult I / Co-Ed (26-35)\n\n
 \n210 B\n\n\nGlen Hyatt\n\n\n\n\nAdult II / Co-Ed (36-50)\n\n\n306 C\n\n\n
 Keith Raisanen\, Tim Perkins\n\n\n\n\nAdult III / Co-Ed (51-65)\n\n\nFello
 wship Hall\n\n\nRay Doss\n\n\n\n\nAdult IV / Co-Ed (66 &amp\; up)\n\n\n307
  C\n\n\nBobby Bailey\, Brenda Freeman\n\n\n\n\nSenior Adult Ladies\n\n\n30
 4 C\n\n\nKay Allen\n\n\n\n\nAdult Ladies\n\n\n302\n\n\nJana Raisanen\, Pau
 la Barker\n\n\n\n\nAdult Men\n\n\n211 B\n\n\nRobby Brown\n\n\n\n\nDiscover
 y New Members\n\n\n301\n\n\nBrent &amp\; Angie Thompson\n\n\n\n\nCollege &
 amp\; Career\n\n\n209 B\n\n\nMarc Riddle\, Tracy Miller\n\n\n\n\nYouth Gir
 ls\n\n\n303\n\n\nRobin Morrison\, Rachel Robinson\n\n\n\n\nYouth Boys\n\n\
 nCave\n\n\nMichael Elkins\, Josh Robinson\n\n\n\n\n4th-6th Grades\n\n\nCD1
 \n\n\nGinger Roberts\, Ricketta Wilson\n\n\n\n\n1st-3rd Grades\n\n\nCD2\n\
 n\nSheila Turner\n\n\n\n\nPreschool\n\n\nCD3\n\n\nCarrie Beth Elkins\, Don
 na Howle\n\n\n\n\nNursery\n\n\nCD4\n\n\nCallie Elkins &amp\; Volunteer\n\n
 \n\n\nActivity Room\n\n\nCD5\n\n \n\n\n
LAST-MODIFIED:20260419T193431
LOCATION:155 Almon St\, Heflin\, Alabama
SUMMARY:Sunday School
URL;VALUE=URI:https://www.heflinbaptist.com/events/sunday-school/2026-08-09
ATTACH;FILENAME=FzNw0.jpg;FMTTYPE=image/jpeg:https://dq5pwpg1q8ru0.cloudfro
 nt.net/2025/11/09/00/04/51/085c714b-fd63-4677-9ecb-5615b4f0799a/FzNw0.jpg
END:VEVENT
END:VCALENDAR
