BEGIN:VCALENDAR
VERSION:2.0
PRODID:icalendar-ruby
CALSCALE:GREGORIAN
METHOD:PUBLISH
BEGIN:VEVENT
DTSTAMP:20260420T235317Z
UID:13-389299@heflinbaptist.com
DTSTART:20260909T230000Z
DTEND:20260910T000000Z
CLASS:PUBLIC
CREATED:20260420T174405
DESCRIPTION:
LAST-MODIFIED:20260420T174405
LOCATION:155 Almon St\, Heflin\, Alabama
SUMMARY:Word of Life Groups
URL;VALUE=URI:https://www.heflinbaptist.com/events/word-of-life-groups/2026
 -09-09
ATTACH;FILENAME=Children.png;FMTTYPE=image/png:https://dq5pwpg1q8ru0.cloudf
 ront.net/2025/09/14/21/14/05/7dd6290c-6e5b-41ed-879d-332fd450a539/Children
 .png
END:VEVENT
END:VCALENDAR
