BEGIN:VCALENDAR
VERSION:2.0
PRODID:icalendar-ruby
CALSCALE:GREGORIAN
METHOD:PUBLISH
BEGIN:VEVENT
DTSTAMP:20260424T050158Z
UID:9-394688@heflinbaptist.com
DTSTART:20260809T150000Z
DTEND:20260809T160000Z
CLASS:PUBLIC
CREATED:20260423T221536
DESCRIPTION:Worship Service
LAST-MODIFIED:20260423T221536
LOCATION:
SUMMARY:Worship Service
URL;VALUE=URI:https://www.heflinbaptist.com/events/worship-service--9/2026-
 08-09
END:VEVENT
END:VCALENDAR
