BEGIN:VCALENDAR
VERSION:2.0
PRODID:icalendar-ruby
CALSCALE:GREGORIAN
METHOD:PUBLISH
BEGIN:VEVENT
DTSTAMP:20260424T111249Z
UID:9-394692@heflinbaptist.com
DTSTART:20260906T150000Z
DTEND:20260906T160000Z
CLASS:PUBLIC
CREATED:20260423T221536
DESCRIPTION:Worship Service
LAST-MODIFIED:20260423T221536
LOCATION:
SUMMARY:Worship Service
URL;VALUE=URI:https://www.heflinbaptist.com/events/worship-service--9/2026-
 09-06
END:VEVENT
END:VCALENDAR
