BEGIN:VCALENDAR
VERSION:2.0
PRODID:icalendar-ruby
CALSCALE:GREGORIAN
METHOD:PUBLISH
BEGIN:VEVENT
DTSTAMP:20260424T200949Z
UID:9-395582@heflinbaptist.com
DTSTART:20261011T150000Z
DTEND:20261011T160000Z
CLASS:PUBLIC
CREATED:20260424T132201
DESCRIPTION:Worship Service
LAST-MODIFIED:20260424T132201
LOCATION:
SUMMARY:Worship Service
URL;VALUE=URI:https://www.heflinbaptist.com/events/worship-service--9/2026-
 10-11
END:VEVENT
END:VCALENDAR
