BEGIN:VCALENDAR
VERSION:2.0
PRODID:icalendar-ruby
CALSCALE:GREGORIAN
METHOD:PUBLISH
BEGIN:VEVENT
DTSTAMP:20260424T233943Z
UID:9-395879@heflinbaptist.com
DTSTART:20261025T150000Z
DTEND:20261025T160000Z
CLASS:PUBLIC
CREATED:20260424T160949
DESCRIPTION:Worship Service
LAST-MODIFIED:20260424T160949
LOCATION:
SUMMARY:Worship Service
URL;VALUE=URI:https://www.heflinbaptist.com/events/worship-service--9/2026-
 10-25
END:VEVENT
END:VCALENDAR
