BEGIN:VCALENDAR
VERSION:2.0
PRODID:icalendar-ruby
CALSCALE:GREGORIAN
METHOD:PUBLISH
BEGIN:VEVENT
DTSTAMP:20260425T012157Z
UID:9-396175@heflinbaptist.com
DTSTART:20261101T160000Z
DTEND:20261101T170000Z
CLASS:PUBLIC
CREATED:20260424T185737
DESCRIPTION:Worship Service
LAST-MODIFIED:20260424T185737
LOCATION:
SUMMARY:Worship Service
URL;VALUE=URI:https://www.heflinbaptist.com/events/worship-service--9/2026-
 11-01
END:VEVENT
END:VCALENDAR
